Workbook

Sheet Input
B1: Route | C1: 214bc
B2: Route Name | C2: Table View - Melkbosch Village - Melkbosstrand - Duynefontein
B3: Timetable effective | C3: 46291
B4: VOC | C4: KID
B5: Bus Type | C5: 9m
B6: Service Notice
B7: =$C$1 -> 214bc | C7: Stables Depot to Table View (Pos) | D7: Table View to Melkbosch Village | E7: Melkbosch Village to Table View | F7: Table View to Melkbosstrand | G7: Melkbosstrand to Table View | H7: Table View to Stables Depot (Pos) | P7: DAILY LIVE KMS | Q7: DAILY POS KMS | R7: DAILY TOTAL | S7: =$C$5 -> 9m | T7: =SUM(R17:R19)-SUM(X17:X19) -> #REF! | U7: =C3 -> 46291
B8: =B7 &" Kms" -> 214bc Kms | C8: 6.56 | D8: 14.26 | E8: 14.18 | F8: 28 | G8: 12.99 | H8: 6.5 | P8: =R8-Q8 -> 69.43 | Q8: =SUMIF($C$7:$O$19,"*Pos*",$C8:$O8) -> 13.06 | R8: =SUM(C8:O8) -> 82.49
B9: Mon | C9: 10 | D9: =86-32 -> 54 | E9: =86-32 -> 54 | F9: 32 | G9: 32 | H9: 10 | J9: 0 | P9: =R9-Q9 -> 172 | Q9: =SUMIF($C$7:$O$19,"*Pos*",$C9:$O9) -> 20 | R9: =SUM(C9:O9) -> 192
B10: Tue | C10: =C9 -> 10 | D10: =D9 -> 54 | E10: =E9 -> 54 | F10: =F9 -> 32 | G10: =G9 -> 32 | H10: =H9 -> 10 | I10: =I9 -> 0 | J10: =J9 -> 0 | ... O10: =O9 -> 0 | P10: =R10-Q10 -> 172 | Q10: =SUMIF($C$7:$O$19,"*Pos*",$C10:$O10) -> 20 | R10: =SUM(C10:O10) -> 192
B11: Wed | C11: =C10 -> 10 | D11: =D10 -> 54 | E11: =E10 -> 54 | F11: =F10 -> 32 | G11: =G10 -> 32 | H11: =H10 -> 10 | I11: =I10 -> 0 | J11: =J10 -> 0 | ... O11: =O10 -> 0 | P11: =R11-Q11 -> 172 | Q11: =SUMIF($C$7:$O$19,"*Pos*",$C11:$O11) -> 20 | R11: =SUM(C11:O11) -> 192
B12: Thu | C12: =C11 -> 10 | D12: =D11 -> 54 | E12: =E11 -> 54 | F12: =F11 -> 32 | G12: =G11 -> 32 | H12: =H11 -> 10 | I12: =I11 -> 0 | J12: =J11 -> 0 | ... O12: =O11 -> 0 | P12: =R12-Q12 -> 172 | Q12: =SUMIF($C$7:$O$19,"*Pos*",$C12:$O12) -> 20 | R12: =SUM(C12:O12) -> 192 | U12: DAILY LIVE TRIPS | V12: TRIPS | Y12: PEAK BUS
B13: Fri | C13: =C12 -> 10 | D13: =D12 -> 54 | E13: =E12 -> 54 | F13: =F12 -> 32 | G13: =G12 -> 32 | H13: =H12 -> 10 | I13: =I12 -> 0 | J13: =J12 -> 0 | ... O13: =O12 -> 0 | P13: =R13-Q13 -> 172 | Q13: =SUMIF($C$7:$O$19,"*Pos*",$C13:$O13) -> 20 | R13: =SUM(C13:O13) -> 192 | U13: WKDAY | V13: ='214bc (Mo-Fri)'!#REF! -> #REF! | X13: =V13-P13 -> #REF! | Y13: ='214bc (Mo-Fri)'!#REF! -> #REF!
B14: Sat | C14: 3 | D14: 0 | E14: 0 | F14: 33 | G14: 33 | H14: 3 | I14: 0 | J14: 0 | K14: 0 | L14: 0 | M14: 0 | N14: 0 | O14: 0 | P14: =R14-Q14 -> 66 | Q14: =SUMIF($C$7:$O$19,"*Pos*",$C14:$O14) -> 6 | R14: =SUM(C14:O14) -> 72 | U14: SAT | V14: ='214bc (Mo-Fri)'!#REF! -> #REF! | X14: =V14-P14 -> #REF! | Y14: ='214bc (Mo-Fri)'!#REF! -> #REF!
B15: Sun | C15: =C14 -> 3 | D15: =D14 -> 0 | E15: =E14 -> 0 | F15: =F14 -> 33 | G15: =G14 -> 33 | H15: 3 | I15: 0 | J15: 0 | K15: 0 | L15: 0 | M15: 0 | N15: 0 | O15: 0 | P15: =R15-Q15 -> 66 | Q15: =SUMIF($C$7:$O$19,"*Pos*",$C15:$O15) -> 6 | R15: =SUM(C15:O15) -> 72 | U15: SUN & P/H | V15: ='214bc (Mo-Fri)'!#REF! -> #REF! | X15: =V15-P15 -> #REF! | Y15: ='214bc (Mo-Fri)'!#REF! -> #REF!
B16: P/H | C16: =C15 -> 3 | D16: =D15 -> 0 | E16: =E15 -> 0 | F16: =F15 -> 33 | G16: =G15 -> 33 | H16: =H15 -> 3 | I16: =I15 -> 0 | J16: =J15 -> 0 | ... O16: =O15 -> 0 | P16: =R16-Q16 -> 66 | Q16: =SUMIF($C$7:$O$19,"*Pos*",$C16:$O16) -> 6 | R16: =SUM(C16:O16) -> 72 | U16: KILOMETERS | V16: LIVE | W16: DEPOT | X16: TOTAL
B17: =B7&"KMS WKD" -> 214bcKMS WKD | C17: =C8*C12 -> 65.6 | D17: =D8*D12 -> 770.04 | E17: =E8*E12 -> 765.72 | F17: =F8*F12 -> 896 | G17: =G8*G12 -> 415.68 | H17: =H8*H12 -> 65 | I17: =I8*I12 -> 0 | J17: =J8*J12 -> 0 | ... O17: =O8*O12 -> 0 | P17: =R17-Q17 -> 2847.44 | Q17: =SUMIF($C$7:$O$19,"*Pos*",$C17:$O17) -> 130.6 | R17: =SUM(C17:O17) -> 2978.04 | U17: WKDAY | V17: ='214bc (Mo-Fri)'!#REF! -> #REF! | W17: ='214bc (Mo-Fri)'!#REF! -> #REF! | X17: =V17+W17 -> #REF!
B18: =B7&"KMS SAT" -> 214bcKMS SAT | C18: =C8*C14 -> 19.68 | D18: =D8*D14 -> 0 | E18: =E8*E14 -> 0 | F18: =F8*F14 -> 924 | G18: =G8*G14 -> 428.67 | H18: =H8*H14 -> 19.5 | I18: =I8*I14 -> 0 | J18: =J8*J14 -> 0 | ... O18: =O8*O14 -> 0 | P18: =R18-Q18 -> 1352.67 | Q18: =SUMIF($C$7:$O$19,"*Pos*",$C18:$O18) -> 39.18 | R18: =SUM(C18:O18) -> 1391.85 | U18: SAT | V18: ='214bc (Mo-Fri)'!#REF! -> #REF! | W18: ='214bc (Mo-Fri)'!#REF! -> #REF! | X18: =V18+W18 -> #REF!
B19: =B7&"KMS SUN/PH" -> 214bcKMS SUN/PH | C19: =C8*C15 -> 19.68 | D19: =D8*D15 -> 0 | E19: =E8*E15 -> 0 | F19: =F8*F15 -> 924 | G19: =G8*G15 -> 428.67 | H19: =H8*H15 -> 19.5 | I19: =I8*I15 -> 0 | J19: =J8*J15 -> 0 | ... O19: =O8*O15 -> 0 | P19: =R19-Q19 -> 1352.67 | Q19: =SUMIF($C$7:$O$19,"*Pos*",$C19:$O19) -> 39.18 | R19: =SUM(C19:O19) -> 1391.85 | U19: SUN & P/H | V19: ='214bc (Mo-Fri)'!#REF! -> #REF! | W19: ='214bc (Mo-Fri)'!#REF! -> #REF! | X19: =X18 -> #REF!
B21: VOC | C21: Route | D21: Direction | E21: Peak | F21: BLOCK | G21: Depart | H21: TT DATE
B22: KID | C22: 214c | D22: F | E22: am | F22: 450 | G22: Table View | H22: =$C$3 -> 46291 | J22: VOC | K22: Route | L22: TT DATE | M22: Peak | N22: Depart | O22: BLOCK | P22: Count of BLOCK
B23: KID | C23: 214c | D23: F | E23: am | F23: 451 | G23: Table View | H23: =$C$3 -> 46291 | J23: KID | K23: 214c | L23: 46291 | M23: am | N23: Table View | O23: 450 | P23: 4
B24: KID | C24: 214b | D24: F | E24: am | F24: 452 | G24: Table View | H24: =$C$3 -> 46291 | J24: KID | K24: 214c | L24: 46291 | M24: am | N24: Table View | O24: 451 | P24: 4
B25: KID | C25: 214b | D25: F | E25: am | F25: 453 | G25: Table View | H25: =$C$3 -> 46291 | J25: KID | K25: 214c | L25: 46291 | M25: am | N25: Melkbosstrand | O25: 450 | P25: 4
B26: KID | C26: 214b | D26: F | E26: am | F26: 454 | G26: Table View | H26: =$C$3 -> 46291 | J26: KID | K26: 214c | L26: 46291 | M26: am | N26: Melkbosstrand | O26: 451 | P26: 3
B27: KID | C27: 214c | D27: F | E27: am | F27: 450 | G27: Table View | H27: =$C$3 -> 46291 | J27: KID | K27: 214c | L27: 46291 | M27: pm | N27: Table View | O27: 450 | P27: 3
B28: KID | C28: 214b | D28: F | E28: am | F28: 455 | G28: Table View | H28: =$C$3 -> 46291 | J28: KID | K28: 214c | L28: 46291 | M28: pm | N28: Table View | O28: 451 | P28: 3
B29: KID | C29: 214b | D29: F | E29: am | F29: 452 | G29: Table View | H29: =$C$3 -> 46291 | J29: KID | K29: 214c | L29: 46291 | M29: pm | N29: Melkbosstrand | O29: 450 | P29: 3
B30: KID | C30: 214b | D30: F | E30: am | F30: 453 | G30: Table View | H30: =$C$3 -> 46291 | J30: KID | K30: 214c | L30: 46291 | M30: pm | N30: Melkbosstrand | O30: 451 | P30: 3
B31: KID | C31: 214c | D31: F | E31: am | F31: 451 | G31: Table View | H31: =$C$3 -> 46291 | J31: KID | K31: 214b | L31: 46291 | M31: am | N31: Table View | O31: 452 | P31: 6
B32: KID | C32: 214b | D32: F | E32: am | F32: 454 | G32: Table View | H32: =$C$3 -> 46291 | J32: KID | K32: 214b | L32: 46291 | M32: am | N32: Table View | O32: 453 | P32: 5
B33: KID | C33: 214b | D33: F | E33: am | F33: 455 | G33: Table View | H33: =$C$3 -> 46291 | J33: KID | K33: 214b | L33: 46291 | M33: am | N33: Table View | O33: 454 | P33: 5
B34: KID | C34: 214b | D34: F | E34: am | F34: 452 | G34: Table View | H34: =$C$3 -> 46291 | J34: KID | K34: 214b | L34: 46291 | M34: am | N34: Table View | O34: 455 | P34: 5
B35: KID | C35: 214c | D35: F | E35: am | F35: 450 | G35: Table View | H35: =$C$3 -> 46291 | J35: KID | K35: 214b | L35: 46291 | M35: am | N35: Melkbosch Village | O35: 453 | P35: 5
B36: KID | C36: 214b | D36: F | E36: am | F36: 453 | G36: Table View | H36: =$C$3 -> 46291 | J36: KID | K36: 214b | L36: 46291 | M36: am | N36: Melkbosch Village | O36: 454 | P36: 5
B37: KID | C37: 214b | D37: F | E37: am | F37: 454 | G37: Table View | H37: =$C$3 -> 46291 | J37: KID | K37: 214b | L37: 46291 | M37: am | N37: Melkbosch Village | O37: 455 | P37: 4
B38: KID | C38: 214b | D38: F | E38: am | F38: 455 | G38: Table View | H38: =$C$3 -> 46291 | J38: KID | K38: 214b | L38: 46291 | M38: am | N38: Melkbosch Village | O38: 452 | P38: 5
B39: KID | C39: 214c | D39: F | E39: am | F39: 451 | G39: Table View | H39: =$C$3 -> 46291 | J39: KID | K39: 214b | L39: 46291 | M39: pm | N39: Table View | O39: 452 | P39: 5
B40: KID | C40: 214b | D40: F | E40: am | F40: 452 | G40: Table View | H40: =$C$3 -> 46291 | J40: KID | K40: 214b | L40: 46291 | M40: pm | N40: Table View | O40: 453 | P40: 5
B41: KID | C41: 214b | D41: F | E41: am | F41: 453 | G41: Table View | H41: =$C$3 -> 46291 | J41: KID | K41: 214b | L41: 46291 | M41: pm | N41: Table View | O41: 454 | P41: 4
...

Sheet 214bc (Mo-Fri)
B2: =Input!$B$1 &"" &Input!$C$1 &": " &Input!$C$2 -> Route 214bc: Table View - Melkbosch Village - Melkbosstrand - Duynefontein
B3: =Input!$B$3 &" " &TEXT(Input!$C$3,"dd mmm yyyy") -> Timetable effective 26 Sept 2026
B4: Monday to Friday
B6: Table View | C6: 0.20972222 | D6: 0.23055556 | E6: 0.23402778 | F6: 0.24097222 | G6: 0.24791667 | H6: 0.25138889 | I6: 0.25486111 | J6: 0.26180556 | K6: 0.26875 | L6: 0.27222222 | M6: 0.27569444 | N6: 0.28263889 | O6: 0.28958333 | P6: 0.29305556 | Q6: 0.29652778 | R6: 0.30347222 | S6: 0.31041667 | T6: 0.31388889 | U6: 0.31736111 | V6: 0.32430556 | W6: 0.33125 | X6: 0.33472222 | Y6: 0.33819444 | Z6: 0.34513889 | AA6: 0.35208333 | AB6: 0.35555556 | AC6: 0.35902778 | AD6: 0.36597222 | AE6: 0.37291667 | AF6: 0.37638889 | AG6: 0.39722222 | AH6: 0.41805556 | AI6: 0.43888889 | AJ6: 0.45972222 | AK6: 0.48055556 | AL6: 0.50138889 | AM6: 0.52222222 | AN6: 0.54305556 | AO6: 0.56388889 | AP6: 0.56736111 | AQ6: 0.57430556 | AR6: 0.58125 | AS6: 0.58472222 | AT6: 0.58819444 | AU6: 0.59513889 | AV6: 0.60208333 | AW6: 0.60555556 | AX6: 0.60902778 | AY6: 0.61597222 | AZ6: 0.62291667 | BA6: 0.62638889 | BB6: 0.62986111 | BC6: 0.63680556 | BD6: 0.64375 | BE6: 0.64722222 | BF6: 0.65069444 | BG6: 0.65763889 | BH6: 0.66458333 | BI6: 0.66805556 | BJ6: 0.67152778 | BK6: 0.67847222 | BL6: 0.68541667 | BM6: 0.68888889 | BN6: 0.69236111 | BO6: 0.69930556 | BP6: 0.70625 | BQ6: 0.70972222 | BR6: 0.71319444 | BS6: 0.72013889 | BT6: 0.72708333 | BU6: 0.73055556 | BV6: 0.73402778 | BW6: 0.74097222 | BX6: 0.74791667 | BY6: 0.75138889 | BZ6: 0.75486111 | CA6: 0.76180556 | CB6: 0.76875 | CC6: 0.77222222 | CD6: 0.77569444 | CE6: 0.78263889 | CF6: 0.78958333 | CG6: 0.79305556 | CH6: 0.81388889 | CI6: 0.83472222 | CJ6: 0.85555556
B7: Popham | C7: 0.21041667 | D7: 0.23125 | E7: 0.23472222 | F7: 0.24166667 | G7: 0.24861111 | H7: 0.25208333 | I7: 0.25555556 | J7: 0.2625 | K7: 0.26944444 | L7: 0.27291667 | M7: 0.27638889 | N7: 0.28333333 | O7: 0.29027778 | P7: 0.29375 | Q7: 0.29722222 | R7: 0.30416667 | S7: 0.31111111 | T7: 0.31458333 | U7: 0.31805556 | V7: 0.325 | W7: 0.33194444 | X7: 0.33541667 | Y7: 0.33888889 | Z7: 0.34583333 | AA7: 0.35277778 | AB7: 0.35625 | AC7: 0.35972222 | AD7: 0.36666667 | AE7: 0.37361111 | AF7: 0.37708333 | AG7: 0.39791667 | AH7: 0.41875 | AI7: 0.43958333 | AJ7: 0.46041667 | AK7: 0.48125 | AL7: 0.50208333 | AM7: 0.52291667 | AN7: 0.54375 | AO7: 0.56458333 | AP7: 0.56805556 | AQ7: 0.575 | AR7: 0.58194444 | AS7: 0.58541667 | AT7: 0.58888889 | AU7: 0.59583333 | AV7: 0.60277778 | AW7: 0.60625 | AX7: 0.60972222 | AY7: 0.61666667 | AZ7: 0.62361111 | BA7: 0.62708333 | BB7: 0.63055556 | BC7: 0.6375 | BD7: 0.64444444 | BE7: 0.64791667 | BF7: 0.65138889 | BG7: 0.65833333 | BH7: 0.66527778 | BI7: 0.66875 | BJ7: 0.67222222 | BK7: 0.67916667 | BL7: 0.68611111 | BM7: 0.68958333 | BN7: 0.69305556 | BO7: 0.7 | BP7: 0.70694444 | BQ7: 0.71041667 | BR7: 0.71388889 | BS7: 0.72083333 | BT7: 0.72777778 | BU7: 0.73125 | BV7: 0.73472222 | BW7: 0.74166667 | BX7: 0.74861111 | BY7: 0.75208333 | BZ7: 0.75555556 | CA7: 0.7625 | CB7: 0.76944444 | CC7: 0.77291667 | CD7: 0.77638889 | CE7: 0.78333333 | CF7: 0.79027778 | CG7: 0.79375 | CH7: 0.81458333 | CI7: 0.83541667 | CJ7: 0.85625
B8: Marine Circle | C8: 0.21111111 | D8: 0.23194444 | E8: 0.23541667 | F8: 0.24236111 | G8: 0.24930556 | H8: 0.25277778 | I8: 0.25625 | J8: 0.26319444 | K8: 0.27013889 | L8: 0.27361111 | M8: 0.27708333 | N8: 0.28402778 | O8: 0.29097222 | P8: 0.29444444 | Q8: 0.29791667 | R8: 0.30486111 | S8: 0.31180556 | T8: 0.31527778 | U8: 0.31875 | V8: 0.32569444 | W8: 0.33263889 | X8: 0.33611111 | Y8: 0.33958333 | Z8: 0.34652778 | AA8: 0.35347222 | AB8: 0.35694444 | AC8: 0.36041667 | AD8: 0.36736111 | AE8: 0.37430556 | AF8: 0.37777778 | AG8: 0.39861111 | AH8: 0.41944444 | AI8: 0.44027778 | AJ8: 0.46111111 | AK8: 0.48194444 | AL8: 0.50277778 | AM8: 0.52361111 | AN8: 0.54444444 | AO8: 0.56527778 | AP8: 0.56875 | AQ8: 0.57569444 | AR8: 0.58263889 | AS8: 0.58611111 | AT8: 0.58958333 | AU8: 0.59652778 | AV8: 0.60347222 | AW8: 0.60694444 | AX8: 0.61041667 | AY8: 0.61736111 | AZ8: 0.62430556 | BA8: 0.62777778 | BB8: 0.63125 | BC8: 0.63819444 | BD8: 0.64513889 | BE8: 0.64861111 | BF8: 0.65208333 | BG8: 0.65902778 | BH8: 0.66597222 | BI8: 0.66944444 | BJ8: 0.67291667 | BK8: 0.67986111 | BL8: 0.68680556 | BM8: 0.69027778 | BN8: 0.69375 | BO8: 0.70069444 | BP8: 0.70763889 | BQ8: 0.71111111 | BR8: 0.71458333 | BS8: 0.72152778 | BT8: 0.72847222 | BU8: 0.73194444 | BV8: 0.73541667 | BW8: 0.74236111 | BX8: 0.74930556 | BY8: 0.75277778 | BZ8: 0.75625 | CA8: 0.76319444 | CB8: 0.77013889 | CC8: 0.77361111 | CD8: 0.77708333 | CE8: 0.78402778 | CF8: 0.79097222 | CG8: 0.79444444 | CH8: 0.81527778 | CI8: 0.83611111 | CJ8: 0.85694444
B9: Seal | C9: 0.21180556 | D9: 0.23263889 | E9: 0.23611111 | F9: 0.24305556 | G9: 0.25 | H9: 0.25347222 | I9: 0.25694444 | J9: 0.26388889 | K9: 0.27083333 | L9: 0.27430556 | M9: 0.27777778 | N9: 0.28472222 | O9: 0.29166667 | P9: 0.29513889 | Q9: 0.29861111 | R9: 0.30555556 | S9: 0.3125 | T9: 0.31597222 | U9: 0.31944444 | V9: 0.32638889 | W9: 0.33333333 | X9: 0.33680556 | Y9: 0.34027778 | Z9: 0.34722222 | AA9: 0.35416667 | AB9: 0.35763889 | AC9: 0.36111111 | AD9: 0.36805556 | AE9: 0.375 | AF9: 0.37847222 | AG9: 0.39930556 | AH9: 0.42013889 | AI9: 0.44097222 | AJ9: 0.46180556 | AK9: 0.48263889 | AL9: 0.50347222 | AM9: 0.52430556 | AN9: 0.54513889 | AO9: 0.56597222 | AP9: 0.56944444 | AQ9: 0.57638889 | AR9: 0.58333333 | AS9: 0.58680556 | AT9: 0.59027778 | AU9: 0.59722222 | AV9: 0.60416667 | AW9: 0.60763889 | AX9: 0.61111111 | AY9: 0.61805556 | AZ9: 0.625 | BA9: 0.62847222 | BB9: 0.63194444 | BC9: 0.63888889 | BD9: 0.64583333 | BE9: 0.64930556 | BF9: 0.65277778 | BG9: 0.65972222 | BH9: 0.66666667 | BI9: 0.67013889 | BJ9: 0.67361111 | BK9: 0.68055556 | BL9: 0.6875 | BM9: 0.69097222 | BN9: 0.69444444 | BO9: 0.70138889 | BP9: 0.70833333 | BQ9: 0.71180556 | BR9: 0.71527778 | BS9: 0.72222222 | BT9: 0.72916667 | BU9: 0.73263889 | BV9: 0.73611111 | BW9: 0.74305556 | BX9: 0.75 | BY9: 0.75347222 | BZ9: 0.75694444 | CA9: 0.76388889 | CB9: 0.77083333 | CC9: 0.77430556 | CD9: 0.77777778 | CE9: 0.78472222 | CF9: 0.79166667 | CG9: 0.79513889 | CH9: 0.81597222 | CI9: 0.83680556 | CJ9: 0.85763889
B10: Shell | C10: 0.21180556 | D10: 0.23263889 | E10: 0.23611111 | F10: 0.24305556 | G10: 0.25 | H10: 0.25347222 | I10: 0.25694444 | J10: 0.26388889 | K10: 0.27083333 | L10: 0.27430556 | M10: 0.27777778 | N10: 0.28472222 | O10: 0.29166667 | P10: 0.29513889 | Q10: 0.29861111 | R10: 0.30555556 | S10: 0.3125 | T10: 0.31597222 | U10: 0.31944444 | V10: 0.32638889 | W10: 0.33333333 | X10: 0.33680556 | Y10: 0.34027778 | Z10: 0.34722222 | AA10: 0.35416667 | AB10: 0.35763889 | AC10: 0.36111111 | AD10: 0.36805556 | AE10: 0.375 | AF10: 0.37847222 | AG10: 0.39930556 | AH10: 0.42013889 | AI10: 0.44097222 | AJ10: 0.46180556 | AK10: 0.48263889 | AL10: 0.50347222 | AM10: 0.52430556 | AN10: 0.54513889 | AO10: 0.56597222 | AP10: 0.56944444 | AQ10: 0.57638889 | AR10: 0.58333333 | AS10: 0.58680556 | AT10: 0.59027778 | AU10: 0.59722222 | AV10: 0.60416667 | AW10: 0.60763889 | AX10: 0.61111111 | AY10: 0.61805556 | AZ10: 0.625 | BA10: 0.62847222 | BB10: 0.63194444 | BC10: 0.63888889 | BD10: 0.64583333 | BE10: 0.64930556 | BF10: 0.65277778 | BG10: 0.65972222 | BH10: 0.66666667 | BI10: 0.67013889 | BJ10: 0.67361111 | BK10: 0.68055556 | BL10: 0.6875 | BM10: 0.69097222 | BN10: 0.69444444 | BO10: 0.70138889 | BP10: 0.70833333 | BQ10: 0.71180556 | BR10: 0.71527778 | BS10: 0.72222222 | BT10: 0.72916667 | BU10: 0.73263889 | BV10: 0.73611111 | BW10: 0.74305556 | BX10: 0.75 | BY10: 0.75347222 | BZ10: 0.75694444 | CA10: 0.76388889 | CB10: 0.77083333 | CC10: 0.77430556 | CD10: 0.77777778 | CE10: 0.78472222 | CF10: 0.79166667 | CG10: 0.79513889 | CH10: 0.81597222 | CI10: 0.83680556 | CJ10: 0.85763889
B11: Perlemoen | C11: 0.2125 | D11: 0.23333333 | E11: 0.23680556 | F11: 0.24375 | G11: 0.25069444 | H11: 0.25416667 | I11: 0.25763889 | J11: 0.26458333 | K11: 0.27152778 | L11: 0.275 | M11: 0.27847222 | N11: 0.28541667 | O11: 0.29236111 | P11: 0.29583333 | Q11: 0.29930556 | R11: 0.30625 | S11: 0.31319444 | T11: 0.31666667 | U11: 0.32013889 | V11: 0.32708333 | W11: 0.33402778 | X11: 0.3375 | Y11: 0.34097222 | Z11: 0.34791667 | AA11: 0.35486111 | AB11: 0.35833333 | AC11: 0.36180556 | AD11: 0.36875 | AE11: 0.37569444 | AF11: 0.37916667 | AG11: 0.4 | AH11: 0.42083333 | AI11: 0.44166667 | AJ11: 0.4625 | AK11: 0.48333333 | AL11: 0.50416667 | AM11: 0.525 | AN11: 0.54583333 | AO11: 0.56666667 | AP11: 0.57013889 | AQ11: 0.57708333 | AR11: 0.58402778 | AS11: 0.5875 | AT11: 0.59097222 | AU11: 0.59791667 | AV11: 0.60486111 | AW11: 0.60833333 | AX11: 0.61180556 | AY11: 0.61875 | AZ11: 0.62569444 | BA11: 0.62916667 | BB11: 0.63263889 | BC11: 0.63958333 | BD11: 0.64652778 | BE11: 0.65 | BF11: 0.65347222 | BG11: 0.66041667 | BH11: 0.66736111 | BI11: 0.67083333 | BJ11: 0.67430556 | BK11: 0.68125 | BL11: 0.68819444 | BM11: 0.69166667 | BN11: 0.69513889 | BO11: 0.70208333 | BP11: 0.70902778 | BQ11: 0.7125 | BR11: 0.71597222 | BS11: 0.72291667 | BT11: 0.72986111 | BU11: 0.73333333 | BV11: 0.73680556 | BW11: 0.74375 | BX11: 0.75069444 | BY11: 0.75416667 | BZ11: 0.75763889 | CA11: 0.76458333 | CB11: 0.77152778 | CC11: 0.775 | CD11: 0.77847222 | CE11: 0.78541667 | CF11: 0.79236111 | CG11: 0.79583333 | CH11: 0.81666667 | CI11: 0.8375 | CJ11: 0.85833333
B12: Bokkombaai | C12: 0.21319444 | D12: 0.23402778 | E12: 0.2375 | F12: 0.24444444 | G12: 0.25138889 | H12: 0.25486111 | I12: 0.25833333 | J12: 0.26527778 | K12: 0.27222222 | L12: 0.27569444 | M12: 0.27916667 | N12: 0.28611111 | O12: 0.29305556 | P12: 0.29652778 | Q12: 0.3 | R12: 0.30694444 | S12: 0.31388889 | T12: 0.31736111 | U12: 0.32083333 | V12: 0.32777778 | W12: 0.33472222 | X12: 0.33819444 | Y12: 0.34166667 | Z12: 0.34861111 | AA12: 0.35555556 | AB12: 0.35902778 | AC12: 0.3625 | AD12: 0.36944444 | AE12: 0.37638889 | AF12: 0.37986111 | AG12: 0.40069444 | AH12: 0.42152778 | AI12: 0.44236111 | AJ12: 0.46319444 | AK12: 0.48402778 | AL12: 0.50486111 | AM12: 0.52569444 | AN12: 0.54652778 | AO12: 0.56736111 | AP12: 0.57083333 | AQ12: 0.57777778 | AR12: 0.58472222 | AS12: 0.58819444 | AT12: 0.59166667 | AU12: 0.59861111 | AV12: 0.60555556 | AW12: 0.60902778 | AX12: 0.6125 | AY12: 0.61944444 | AZ12: 0.62638889 | BA12: 0.62986111 | BB12: 0.63333333 | BC12: 0.64027778 | BD12: 0.64722222 | BE12: 0.65069444 | BF12: 0.65416667 | BG12: 0.66111111 | BH12: 0.66805556 | BI12: 0.67152778 | BJ12: 0.675 | BK12: 0.68194444 | BL12: 0.68888889 | BM12: 0.69236111 | BN12: 0.69583333 | BO12: 0.70277778 | BP12: 0.70972222 | BQ12: 0.71319444 | BR12: 0.71666667 | BS12: 0.72361111 | BT12: 0.73055556 | BU12: 0.73402778 | BV12: 0.7375 | BW12: 0.74444444 | BX12: 0.75138889 | BY12: 0.75486111 | BZ12: 0.75833333 | CA12: 0.76527778 | CB12: 0.77222222 | CC12: 0.77569444 | CD12: 0.77916667 | CE12: 0.78611111 | CF12: 0.79305556 | CG12: 0.79652778 | CH12: 0.81736111 | CI12: 0.83819444 | CJ12: 0.85902778
B13: Kleinbaai | C13: 0.21388889 | D13: 0.23472222 | E13: 0.23819444 | F13: 0.24513889 | G13: 0.25208333 | H13: 0.25555556 | I13: 0.25902778 | J13: 0.26597222 | K13: 0.27291667 | L13: 0.27638889 | M13: 0.27986111 | N13: 0.28680556 | O13: 0.29375 | P13: 0.29722222 | Q13: 0.30069444 | R13: 0.30763889 | S13: 0.31458333 | T13: 0.31805556 | U13: 0.32152778 | V13: 0.32847222 | W13: 0.33541667 | X13: 0.33888889 | Y13: 0.34236111 | Z13: 0.34930556 | AA13: 0.35625 | AB13: 0.35972222 | AC13: 0.36319444 | AD13: 0.37013889 | AE13: 0.37708333 | AF13: 0.38055556 | AG13: 0.40138889 | AH13: 0.42222222 | AI13: 0.44305556 | AJ13: 0.46388889 | AK13: 0.48472222 | AL13: 0.50555556 | AM13: 0.52638889 | AN13: 0.54722222 | AO13: 0.56805556 | AP13: 0.57152778 | AQ13: 0.57847222 | AR13: 0.58541667 | AS13: 0.58888889 | AT13: 0.59236111 | AU13: 0.59930556 | AV13: 0.60625 | AW13: 0.60972222 | AX13: 0.61319444 | AY13: 0.62013889 | AZ13: 0.62708333 | BA13: 0.63055556 | BB13: 0.63402778 | BC13: 0.64097222 | BD13: 0.64791667 | BE13: 0.65138889 | BF13: 0.65486111 | BG13: 0.66180556 | BH13: 0.66875 | BI13: 0.67222222 | BJ13: 0.67569444 | BK13: 0.68263889 | BL13: 0.68958333 | BM13: 0.69305556 | BN13: 0.69652778 | BO13: 0.70347222 | BP13: 0.71041667 | BQ13: 0.71388889 | BR13: 0.71736111 | BS13: 0.72430556 | BT13: 0.73125 | BU13: 0.73472222 | BV13: 0.73819444 | BW13: 0.74513889 | BX13: 0.75208333 | BY13: 0.75555556 | BZ13: 0.75902778 | CA13: 0.76597222 | CB13: 0.77291667 | CC13: 0.77638889 | CD13: 0.77986111 | CE13: 0.78680556 | CF13: 0.79375 | CG13: 0.79722222 | CH13: 0.81805556 | CI13: 0.83888889 | CJ13: 0.85972222
B14: De Mist | C14: 0.21388889 | D14: 0.23472222 | E14: 0.23819444 | F14: 0.24513889 | G14: 0.25208333 | H14: 0.25555556 | I14: 0.25902778 | J14: 0.26597222 | K14: 0.27291667 | L14: 0.27638889 | M14: 0.27986111 | N14: 0.28680556 | O14: 0.29375 | P14: 0.29722222 | Q14: 0.30069444 | R14: 0.30763889 | S14: 0.31458333 | T14: 0.31805556 | U14: 0.32152778 | V14: 0.32847222 | W14: 0.33541667 | X14: 0.33888889 | Y14: 0.34236111 | Z14: 0.34930556 | AA14: 0.35625 | AB14: 0.35972222 | AC14: 0.36319444 | AD14: 0.37013889 | AE14: 0.37708333 | AF14: 0.38055556 | AG14: 0.40138889 | AH14: 0.42222222 | AI14: 0.44305556 | AJ14: 0.46388889 | AK14: 0.48472222 | AL14: 0.50555556 | AM14: 0.52638889 | AN14: 0.54722222 | AO14: 0.56805556 | AP14: 0.57152778 | AQ14: 0.57847222 | AR14: 0.58541667 | AS14: 0.58888889 | AT14: 0.59236111 | AU14: 0.59930556 | AV14: 0.60625 | AW14: 0.60972222 | AX14: 0.61319444 | AY14: 0.62013889 | AZ14: 0.62708333 | BA14: 0.63055556 | BB14: 0.63402778 | BC14: 0.64097222 | BD14: 0.64791667 | BE14: 0.65138889 | BF14: 0.65486111 | BG14: 0.66180556 | BH14: 0.66875 | BI14: 0.67222222 | BJ14: 0.67569444 | BK14: 0.68263889 | BL14: 0.68958333 | BM14: 0.69305556 | BN14: 0.69652778 | BO14: 0.70347222 | BP14: 0.71041667 | BQ14: 0.71388889 | BR14: 0.71736111 | BS14: 0.72430556 | BT14: 0.73125 | BU14: 0.73472222 | BV14: 0.73819444 | BW14: 0.74513889 | BX14: 0.75208333 | BY14: 0.75555556 | BZ14: 0.75902778 | CA14: 0.76597222 | CB14: 0.77291667 | CC14: 0.77638889 | CD14: 0.77986111 | CE14: 0.78680556 | CF14: 0.79375 | CG14: 0.79722222 | CH14: 0.81805556 | CI14: 0.83888889 | CJ14: 0.85972222
B15: Big Bay | C15: 0.21458333 | D15: 0.23541667 | E15: 0.23888889 | F15: 0.24583333 | G15: 0.25277778 | H15: 0.25625 | I15: 0.25972222 | J15: 0.26666667 | K15: 0.27361111 | L15: 0.27708333 | M15: 0.28055556 | N15: 0.2875 | O15: 0.29444444 | P15: 0.29791667 | Q15: 0.30138889 | R15: 0.30833333 | S15: 0.31527778 | T15: 0.31875 | U15: 0.32222222 | V15: 0.32916667 | W15: 0.33611111 | X15: 0.33958333 | Y15: 0.34305556 | Z15: 0.35 | AA15: 0.35694444 | AB15: 0.36041667 | AC15: 0.36388889 | AD15: 0.37083333 | AE15: 0.37777778 | AF15: 0.38125 | AG15: 0.40208333 | AH15: 0.42291667 | AI15: 0.44375 | AJ15: 0.46458333 | AK15: 0.48541667 | AL15: 0.50625 | AM15: 0.52708333 | AN15: 0.54791667 | AO15: 0.56875 | AP15: 0.57222222 | AQ15: 0.57916667 | AR15: 0.58611111 | AS15: 0.58958333 | AT15: 0.59305556 | AU15: 0.6 | AV15: 0.60694444 | AW15: 0.61041667 | AX15: 0.61388889 | AY15: 0.62083333 | AZ15: 0.62777778 | BA15: 0.63125 | BB15: 0.63472222 | BC15: 0.64166667 | BD15: 0.64861111 | BE15: 0.65208333 | BF15: 0.65555556 | BG15: 0.6625 | BH15: 0.66944444 | BI15: 0.67291667 | BJ15: 0.67638889 | BK15: 0.68333333 | BL15: 0.69027778 | BM15: 0.69375 | BN15: 0.69722222 | BO15: 0.70416667 | BP15: 0.71111111 | BQ15: 0.71458333 | BR15: 0.71805556 | BS15: 0.725 | BT15: 0.73194444 | BU15: 0.73541667 | BV15: 0.73888889 | BW15: 0.74583333 | BX15: 0.75277778 | BY15: 0.75625 | BZ15: 0.75972222 | CA15: 0.76666667 | CB15: 0.77361111 | CC15: 0.77708333 | CD15: 0.78055556 | CE15: 0.7875 | CF15: 0.79444444 | CG15: 0.79791667 | CH15: 0.81875 | CI15: 0.83958333 | CJ15: 0.86041667
B16: Marine | C16: 0.21527778 | D16: 0.23611111 | E16: 0.23958333 | F16: 0.24652778 | G16: 0.25347222 | H16: 0.25694444 | I16: 0.26041667 | J16: 0.26736111 | K16: 0.27430556 | L16: 0.27777778 | M16: 0.28125 | N16: 0.28819444 | O16: 0.29513889 | P16: 0.29861111 | Q16: 0.30208333 | R16: 0.30902778 | S16: 0.31597222 | T16: 0.31944444 | U16: 0.32291667 | V16: 0.32986111 | W16: 0.33680556 | X16: 0.34027778 | Y16: 0.34375 | Z16: 0.35069444 | AA16: 0.35763889 | AB16: 0.36111111 | AC16: 0.36458333 | AD16: 0.37152778 | AE16: 0.37847222 | AF16: 0.38194444 | AG16: 0.40277778 | AH16: 0.42361111 | AI16: 0.44444444 | AJ16: 0.46527778 | AK16: 0.48611111 | AL16: 0.50694444 | AM16: 0.52777778 | AN16: 0.54861111 | AO16: 0.56944444 | AP16: 0.57291667 | AQ16: 0.57986111 | AR16: 0.58680556 | AS16: 0.59027778 | AT16: 0.59375 | AU16: 0.60069444 | AV16: 0.60763889 | AW16: 0.61111111 | AX16: 0.61458333 | AY16: 0.62152778 | AZ16: 0.62847222 | BA16: 0.63194444 | BB16: 0.63541667 | BC16: 0.64236111 | BD16: 0.64930556 | BE16: 0.65277778 | BF16: 0.65625 | BG16: 0.66319444 | BH16: 0.67013889 | BI16: 0.67361111 | BJ16: 0.67708333 | BK16: 0.68402778 | BL16: 0.69097222 | BM16: 0.69444444 | BN16: 0.69791667 | BO16: 0.70486111 | BP16: 0.71180556 | BQ16: 0.71527778 | BR16: 0.71875 | BS16: 0.72569444 | BT16: 0.73263889 | BU16: 0.73611111 | BV16: 0.73958333 | BW16: 0.74652778 | BX16: 0.75347222 | BY16: 0.75694444 | BZ16: 0.76041667 | CA16: 0.76736111 | CB16: 0.77430556 | CC16: 0.77777778 | CD16: 0.78125 | CE16: 0.78819444 | CF16: 0.79513889 | CG16: 0.79861111 | CH16: 0.81944444 | CI16: 0.84027778 | CJ16: 0.86111111
B17: Water's Edge | C17: 0.21597222 | D17: 0.23680556 | E17: 0.24027778 | F17: 0.24722222 | G17: 0.25416667 | H17: 0.25763889 | I17: 0.26111111 | J17: 0.26805556 | K17: 0.275 | L17: 0.27847222 | M17: 0.28194444 | N17: 0.28888889 | O17: 0.29583333 | P17: 0.29930556 | Q17: 0.30277778 | R17: 0.30972222 | S17: 0.31666667 | T17: 0.32013889 | U17: 0.32361111 | V17: 0.33055556 | W17: 0.3375 | X17: 0.34097222 | Y17: 0.34444444 | Z17: 0.35138889 | AA17: 0.35833333 | AB17: 0.36180556 | AC17: 0.36527778 | AD17: 0.37222222 | AE17: 0.37916667 | AF17: 0.38263889 | AG17: 0.40347222 | AH17: 0.42430556 | AI17: 0.44513889 | AJ17: 0.46597222 | AK17: 0.48680556 | AL17: 0.50763889 | AM17: 0.52847222 | AN17: 0.54930556 | AO17: 0.57013889 | AP17: 0.57361111 | AQ17: 0.58055556 | AR17: 0.5875 | AS17: 0.59097222 | AT17: 0.59444444 | AU17: 0.60138889 | AV17: 0.60833333 | AW17: 0.61180556 | AX17: 0.61527778 | AY17: 0.62222222 | AZ17: 0.62916667 | BA17: 0.63263889 | BB17: 0.63611111 | BC17: 0.64305556 | BD17: 0.65 | BE17: 0.65347222 | BF17: 0.65694444 | BG17: 0.66388889 | BH17: 0.67083333 | BI17: 0.67430556 | BJ17: 0.67777778 | BK17: 0.68472222 | BL17: 0.69166667 | BM17: 0.69513889 | BN17: 0.69861111 | BO17: 0.70555556 | BP17: 0.7125 | BQ17: 0.71597222 | BR17: 0.71944444 | BS17: 0.72638889 | BT17: 0.73333333 | BU17: 0.73680556 | BV17: 0.74027778 | BW17: 0.74722222 | BX17: 0.75416667 | BY17: 0.75763889 | BZ17: 0.76111111 | CA17: 0.76805556 | CB17: 0.775 | CC17: 0.77847222 | CD17: 0.78194444 | CE17: 0.78888889 | CF17: 0.79583333 | CG17: 0.79930556 | CH17: 0.82013889 | CI17: 0.84097222 | CJ17: 0.86180556
... B21: Melkbosch Village | C21: 0.22083333 | D21: 0.24166667 | E21: 0.24513889 | F21: 0.25208333 | G21: 0.25902778 | H21: 0.2625 | I21: 0.26597222 | J21: 0.27291667 | K21: 0.27986111 | L21: 0.28333333 | M21: 0.28680556 | N21: 0.29375 | O21: 0.30069444 | P21: 0.30416667 | Q21: 0.30763889 | R21: 0.31458333 | S21: 0.32152778 | T21: 0.325 | U21: 0.32847222 | V21: 0.33541667 | W21: 0.34236111 | X21: 0.34583333 | Y21: 0.34930556 | Z21: 0.35625 | AA21: 0.36319444 | AB21: 0.36666667 | AC21: 0.37013889 | AD21: 0.37708333 | AE21: 0.38402778 | AF21: 0.3875 | AG21: 0.40833333 | AH21: 0.42916667 | AI21: 0.45 | AJ21: 0.47083333 | AK21: 0.49166667 | AL21: 0.5125 | AM21: 0.53333333 | AN21: 0.55416667 | AO21: 0.575 | AP21: 0.57847222 | AQ21: 0.58541667 | AR21: 0.59236111 | AS21: 0.59583333 | AT21: 0.59930556 | AU21: 0.60625 | AV21: 0.61319444 | AW21: 0.61666667 | AX21: 0.62013889 | AY21: 0.62708333 | AZ21: 0.63402778 | BA21: 0.6375 | BB21: 0.64097222 | BC21: 0.64791667 | BD21: 0.65486111 | BE21: 0.65833333 | BF21: 0.66180556 | BG21: 0.66875 | BH21: 0.67569444 | BI21: 0.67916667 | BJ21: 0.68263889 | BK21: 0.68958333 | BL21: 0.69652778 | BM21: 0.7 | BN21: 0.70347222 | BO21: 0.71041667 | BP21: 0.71736111 | BQ21: 0.72083333 | BR21: 0.72430556 | BS21: 0.73125 | BT21: 0.73819444 | BU21: 0.74166667 | BV21: 0.74513889 | BW21: 0.75208333 | BX21: 0.75902778 | BY21: 0.7625 | BZ21: 0.76597222 | CA21: 0.77291667 | CB21: 0.77986111 | CC21: 0.78333333 | CD21: 0.78680556 | CE21: 0.79375 | CF21: 0.80069444 | CG21: 0.80416667 | CH21: 0.825 | CI21: 0.84583333 | CJ21: 0.86666667
B22: Atalantes | C22: 0.22222222 | D22: 0.24305556 | H22: 0.26388889 | L22: 0.28472222 | P22: 0.30555556 | T22: 0.32638889 | X22: 0.34722222 | AB22: 0.36805556 | AF22: 0.38888889 | AG22: 0.40972222 | AH22: 0.43055556 | AI22: 0.45138889 | AJ22: 0.47222222 | AK22: 0.49305556 | AL22: 0.51388889 | AM22: 0.53472222 | AN22: 0.55555556 | AO22: 0.57638889 | AS22: 0.59722222 | AW22: 0.61805556 | BA22: 0.63888889 | BE22: 0.65972222 | BI22: 0.68055556 | BM22: 0.70138889 | BQ22: 0.72222222 | BU22: 0.74305556 | BY22: 0.76388889 | CC22: 0.78472222 | CG22: 0.80555556 | CH22: 0.82638889 | CI22: 0.84722222 | CJ22: 0.86805556
B23: Robben | C23: 0.22291667 | D23: 0.24375 | H23: 0.26458333 | L23: 0.28541667 | P23: 0.30625 | T23: 0.32708333 | X23: 0.34791667 | AB23: 0.36875 | AF23: 0.38958333 | AG23: 0.41041667 | AH23: 0.43125 | AI23: 0.45208333 | AJ23: 0.47291667 | AK23: 0.49375 | AL23: 0.51458333 | AM23: 0.53541667 | AN23: 0.55625 | AO23: 0.57708333 | AS23: 0.59791667 | AW23: 0.61875 | BA23: 0.63958333 | BE23: 0.66041667 | BI23: 0.68125 | BM23: 0.70208333 | BQ23: 0.72291667 | BU23: 0.74375 | BY23: 0.76458333 | CC23: 0.78541667 | CG23: 0.80625 | CH23: 0.82708333 | CI23: 0.84791667 | CJ23: 0.86875
B24: Hoffe South | C24: 0.22361111 | D24: 0.24444444 | H24: 0.26527778 | L24: 0.28611111 | P24: 0.30694444 | T24: 0.32777778 | X24: 0.34861111 | AB24: 0.36944444 | AF24: 0.39027778 | AG24: 0.41111111 | AH24: 0.43194444 | AI24: 0.45277778 | AJ24: 0.47361111 | AK24: 0.49444444 | AL24: 0.51527778 | AM24: 0.53611111 | AN24: 0.55694444 | AO24: 0.57777778 | AS24: 0.59861111 | AW24: 0.61944444 | BA24: 0.64027778 | BE24: 0.66111111 | BI24: 0.68194444 | BM24: 0.70277778 | BQ24: 0.72361111 | BU24: 0.74444444 | BY24: 0.76527778 | CC24: 0.78611111 | CG24: 0.80694444 | CH24: 0.82777778 | CI24: 0.84861111 | CJ24: 0.86944444
B25: Riebeeckstrand | C25: 0.22430556 | D25: 0.24513889 | H25: 0.26597222 | L25: 0.28680556 | P25: 0.30763889 | T25: 0.32847222 | X25: 0.34930556 | AB25: 0.37013889 | AF25: 0.39097222 | AG25: 0.41180556 | AH25: 0.43263889 | AI25: 0.45347222 | AJ25: 0.47430556 | AK25: 0.49513889 | AL25: 0.51597222 | AM25: 0.53680556 | AN25: 0.55763889 | AO25: 0.57847222 | AS25: 0.59930556 | AW25: 0.62013889 | BA25: 0.64097222 | BE25: 0.66180556 | BI25: 0.68263889 | BM25: 0.70347222 | BQ25: 0.72430556 | BU25: 0.74513889 | BY25: 0.76597222 | CC25: 0.78680556 | CG25: 0.80763889 | CH25: 0.82847222 | CI25: 0.84930556 | CJ25: 0.87013889
B26: Pelican | C26: 0.225 | D26: 0.24583333 | H26: 0.26666667 | L26: 0.2875 | P26: 0.30833333 | T26: 0.32916667 | X26: 0.35 | AB26: 0.37083333 | AF26: 0.39166667 | AG26: 0.4125 | AH26: 0.43333333 | AI26: 0.45416667 | AJ26: 0.475 | AK26: 0.49583333 | AL26: 0.51666667 | AM26: 0.5375 | AN26: 0.55833333 | AO26: 0.57916667 | AS26: 0.6 | AW26: 0.62083333 | BA26: 0.64166667 | BE26: 0.6625 | BI26: 0.68333333 | BM26: 0.70416667 | BQ26: 0.725 | BU26: 0.74583333 | BY26: 0.76666667 | CC26: 0.7875 | CG26: 0.80833333 | CH26: 0.82916667 | CI26: 0.85 | CJ26: 0.87083333
B27: Hoffe North | C27: 0.22569444 | D27: 0.24652778 | H27: 0.26736111 | L27: 0.28819444 | P27: 0.30902778 | T27: 0.32986111 | X27: 0.35069444 | AB27: 0.37152778 | AF27: 0.39236111 | AG27: 0.41319444 | AH27: 0.43402778 | AI27: 0.45486111 | AJ27: 0.47569444 | AK27: 0.49652778 | AL27: 0.51736111 | AM27: 0.53819444 | AN27: 0.55902778 | AO27: 0.57986111 | AS27: 0.60069444 | AW27: 0.62152778 | BA27: 0.64236111 | BE27: 0.66319444 | BI27: 0.68402778 | BM27: 0.70486111 | BQ27: 0.72569444 | BU27: 0.74652778 | BY27: 0.76736111 | CC27: 0.78819444 | CG27: 0.80902778 | CH27: 0.82986111 | CI27: 0.85069444 | CJ27: 0.87152778
B28: Dunker | C28: 0.22638889 | D28: 0.24722222 | H28: 0.26805556 | L28: 0.28888889 | P28: 0.30972222 | T28: 0.33055556 | X28: 0.35138889 | AB28: 0.37222222 | AF28: 0.39305556 | AG28: 0.41388889 | AH28: 0.43472222 | AI28: 0.45555556 | AJ28: 0.47638889 | AK28: 0.49722222 | AL28: 0.51805556 | AM28: 0.53888889 | AN28: 0.55972222 | AO28: 0.58055556 | AS28: 0.60138889 | AW28: 0.62222222 | BA28: 0.64305556 | BE28: 0.66388889 | BI28: 0.68472222 | BM28: 0.70555556 | BQ28: 0.72638889 | BU28: 0.74722222 | BY28: 0.76805556 | CC28: 0.78888889 | CG28: 0.80972222 | CH28: 0.83055556 | CI28: 0.85138889 | CJ28: 0.87222222
B29: Edward | C29: 0.22638889 | D29: 0.24722222 | H29: 0.26805556 | L29: 0.28888889 | P29: 0.30972222 | T29: 0.33055556 | X29: 0.35138889 | AB29: 0.37222222 | AF29: 0.39305556 | AG29: 0.41388889 | AH29: 0.43472222 | AI29: 0.45555556 | AJ29: 0.47638889 | AK29: 0.49722222 | AL29: 0.51805556 | AM29: 0.53888889 | AN29: 0.55972222 | AO29: 0.58055556 | AS29: 0.60138889 | AW29: 0.62222222 | BA29: 0.64305556 | BE29: 0.66388889 | BI29: 0.68472222 | BM29: 0.70555556 | BQ29: 0.72638889 | BU29: 0.74722222 | BY29: 0.76805556 | CC29: 0.78888889 | CG29: 0.80972222 | CH29: 0.83055556 | CI29: 0.85138889 | CJ29: 0.87222222
B30: Narcissus | C30: 0.22638889 | D30: 0.24722222 | H30: 0.26805556 | L30: 0.28888889 | P30: 0.30972222 | T30: 0.33055556 | X30: 0.35138889 | AB30: 0.37222222 | AF30: 0.39305556 | AG30: 0.41388889 | AH30: 0.43472222 | AI30: 0.45555556 | AJ30: 0.47638889 | AK30: 0.49722222 | AL30: 0.51805556 | AM30: 0.53888889 | AN30: 0.55972222 | AO30: 0.58055556 | AS30: 0.60138889 | AW30: 0.62222222 | BA30: 0.64305556 | BE30: 0.66388889 | BI30: 0.68472222 | BM30: 0.70555556 | BQ30: 0.72638889 | BU30: 0.74722222 | BY30: 0.76805556 | CC30: 0.78888889 | CG30: 0.80972222 | CH30: 0.83055556 | CI30: 0.85138889 | CJ30: 0.87222222
B31: Human | C31: 0.22708333 | D31: 0.24791667 | H31: 0.26875 | L31: 0.28958333 | P31: 0.31041667 | T31: 0.33125 | X31: 0.35208333 | AB31: 0.37291667 | AF31: 0.39375 | AG31: 0.41458333 | AH31: 0.43541667 | AI31: 0.45625 | AJ31: 0.47708333 | AK31: 0.49791667 | AL31: 0.51875 | AM31: 0.53958333 | AN31: 0.56041667 | AO31: 0.58125 | AS31: 0.60208333 | AW31: 0.62291667 | BA31: 0.64375 | BE31: 0.66458333 | BI31: 0.68541667 | BM31: 0.70625 | BQ31: 0.72708333 | BU31: 0.74791667 | BY31: 0.76875 | CC31: 0.78958333 | CG31: 0.81041667 | CH31: 0.83125 | CI31: 0.85208333 | CJ31: 0.87291667
B32: Kemp | C32: 0.22708333 | D32: 0.24791667 | H32: 0.26875 | L32: 0.28958333 | P32: 0.31041667 | T32: 0.33125 | X32: 0.35208333 | AB32: 0.37291667 | AF32: 0.39375 | AG32: 0.41458333 | AH32: 0.43541667 | AI32: 0.45625 | AJ32: 0.47708333 | AK32: 0.49791667 | AL32: 0.51875 | AM32: 0.53958333 | AN32: 0.56041667 | AO32: 0.58125 | AS32: 0.60208333 | AW32: 0.62291667 | BA32: 0.64375 | BE32: 0.66458333 | BI32: 0.68541667 | BM32: 0.70625 | BQ32: 0.72708333 | BU32: 0.74791667 | BY32: 0.76875 | CC32: 0.78958333 | CG32: 0.81041667 | CH32: 0.83125 | CI32: 0.85208333 | CJ32: 0.87291667
B33: Le Sueur | C33: 0.22777778 | D33: 0.24861111 | H33: 0.26944444 | L33: 0.29027778 | P33: 0.31111111 | T33: 0.33194444 | X33: 0.35277778 | AB33: 0.37361111 | AF33: 0.39444444 | AG33: 0.41527778 | AH33: 0.43611111 | AI33: 0.45694444 | AJ33: 0.47777778 | AK33: 0.49861111 | AL33: 0.51944444 | AM33: 0.54027778 | AN33: 0.56111111 | AO33: 0.58194444 | AS33: 0.60277778 | AW33: 0.62361111 | BA33: 0.64444444 | BE33: 0.66527778 | BI33: 0.68611111 | BM33: 0.70694444 | BQ33: 0.72777778 | BU33: 0.74861111 | BY33: 0.76944444 | CC33: 0.79027778 | CG33: 0.81111111 | CH33: 0.83194444 | CI33: 0.85277778 | CJ33: 0.87361111
... B45: Melkbosstrand | C45: 0.23541667 | D45: 0.25625 | H45: 0.27708333 | L45: 0.29791667 | P45: 0.31875 | T45: 0.33958333 | X45: 0.36041667 | AB45: 0.38125 | AF45: 0.40208333 | AG45: 0.42291667 | AH45: 0.44375 | AI45: 0.46458333 | AJ45: 0.48541667 | AK45: 0.50625 | AL45: 0.52708333 | AM45: 0.54791667 | AN45: 0.56875 | AO45: 0.58958333 | AS45: 0.61041667 | AW45: 0.63125 | BA45: 0.65208333 | BE45: 0.67291667 | BI45: 0.69375 | BM45: 0.71458333 | BQ45: 0.73541667 | BU45: 0.75625 | BY45: 0.77708333 | CC45: 0.79791667 | CG45: 0.81875 | CH45: 0.83958333 | CI45: 0.86041667 | CJ45: 0.88125
B47: Pos km (on)
B48: Pos km (off) | C48: =IF(ISBLANK(#REF!),0,ROUND(#REF!/1000,2)) -> #REF! | D48: =IF(ISBLANK(#REF!),0,ROUND(#REF!/1000,2)) -> #REF! | E48: =IF(ISBLANK(#REF!),0,ROUND(#REF!/1000,2)) -> #REF! | F48: =IF(ISBLANK(#REF!),0,ROUND(#REF!/1000,2)) -> #REF! | G48: =IF(ISBLANK(#REF!),0,ROUND(#REF!/1000,2)) -> #REF! | H48: =IF(ISBLANK(#REF!),0,ROUND(#REF!/1000,2)) -> #REF! | I48: =IF(ISBLANK(#REF!),0,ROUND(#REF!/1000,2)) -> #REF! | J48: =IF(ISBLANK(#REF!),0,ROUND(#REF!/1000,2)) -> #REF! | ... CJ48: =IF(ISBLANK(#REF!),0,ROUND(#REF!/1000,2)) -> #REF!
B49: MIN | C49: =IF(ISBLANK(C50),C51,C50) -> 0.23541667 | D49: =IF(ISBLANK(D50),D51,D50) -> 0.24513889 | E49: =IF(ISBLANK(E50),E51,E50) -> 0.25208333 | F49: =IF(ISBLANK(F50),F51,F50) -> 0.25625 | G49: =IF(ISBLANK(G50),G51,G50) -> 0.25902778 | H49: =IF(ISBLANK(H50),H51,H50) -> 0.26597222 | I49: =IF(ISBLANK(I50),I51,I50) -> 0.27291667 | J49: =IF(ISBLANK(J50),J51,J50) -> 0.27708333 | ... CJ49: =IF(ISBLANK(CJ50),CJ51,CJ50) -> 0.88125
B50: Melkbosch Village | D50: 0.24513889 | E50: 0.25208333 | G50: 0.25902778 | H50: 0.26597222 | I50: 0.27291667 | K50: 0.27986111 | L50: 0.28680556 | M50: 0.29375 | O50: 0.30069444 | P50: 0.30763889 | Q50: 0.31458333 | S50: 0.32152778 | T50: 0.32847222 | U50: 0.33541667 | W50: 0.34236111 | X50: 0.34930556 | Y50: 0.35625 | AA50: 0.36319444 | AB50: 0.37013889 | AC50: 0.37708333 | AE50: 0.38402778 | AO50: 0.57847222 | AP50: 0.58541667 | AR50: 0.59236111 | AS50: 0.59930556 | AT50: 0.60625 | AV50: 0.61319444 | AW50: 0.62013889 | AX50: 0.62708333 | AZ50: 0.63402778 | BA50: 0.64097222 | BB50: 0.64791667 | BD50: 0.65486111 | BE50: 0.66180556 | BF50: 0.66875 | BH50: 0.67569444 | BI50: 0.68263889 | BJ50: 0.68958333 | BL50: 0.69652778 | BM50: 0.70347222 | BN50: 0.71041667 | BP50: 0.71736111 | BQ50: 0.72430556 | BR50: 0.73125 | BT50: 0.73819444 | BU50: 0.74513889 | BV50: 0.75208333 | BX50: 0.75902778 | BY50: 0.76597222 | BZ50: 0.77291667 | CB50: 0.77986111 | CC50: 0.78680556 | CD50: 0.79375 | CF50: 0.80069444
B51: Melkbosstrand | C51: 0.23541667 | D51: 0.24652778 | E51: 0.25347222 | F51: 0.25625 | G51: 0.26041667 | H51: 0.26736111 | I51: 0.27430556 | J51: 0.27708333 | K51: 0.28125 | L51: 0.28819444 | M51: 0.29513889 | N51: 0.29791667 | O51: 0.30208333 | P51: 0.30902778 | Q51: 0.31597222 | R51: 0.31875 | S51: 0.32291667 | T51: 0.32986111 | U51: 0.33680556 | V51: 0.33958333 | W51: 0.34375 | X51: 0.35069444 | Y51: 0.35763889 | Z51: 0.36041667 | AA51: 0.36458333 | AB51: 0.37152778 | AC51: 0.37847222 | AD51: 0.38125 | AE51: 0.38541667 | AF51: 0.40208333 | AG51: 0.42291667 | AH51: 0.44375 | AI51: 0.46458333 | AJ51: 0.48541667 | AK51: 0.50625 | AL51: 0.52708333 | AM51: 0.54791667 | AN51: 0.56875 | AO51: 0.57986111 | AP51: 0.58680556 | AQ51: 0.58958333 | AR51: 0.59375 | AS51: 0.60069444 | AT51: 0.60763889 | AU51: 0.61041667 | AV51: 0.61458333 | AW51: 0.62152778 | AX51: 0.62847222 | AY51: 0.63125 | AZ51: 0.63541667 | BA51: 0.64236111 | BB51: 0.64930556 | BC51: 0.65208333 | BD51: 0.65625 | BE51: 0.66319444 | BF51: 0.67013889 | BG51: 0.67291667 | BH51: 0.67708333 | BI51: 0.68402778 | BJ51: 0.69097222 | BK51: 0.69375 | BL51: 0.69791667 | BM51: 0.70486111 | BN51: 0.71180556 | BO51: 0.71458333 | BP51: 0.71875 | BQ51: 0.72569444 | BR51: 0.73263889 | BS51: 0.73541667 | BT51: 0.73958333 | BU51: 0.74652778 | BV51: 0.75347222 | BW51: 0.75625 | BX51: 0.76041667 | BY51: 0.76736111 | BZ51: 0.77430556 | CA51: 0.77708333 | CB51: 0.78125 | CC51: 0.78819444 | CD51: 0.79513889 | CE51: 0.79791667 | CF51: 0.80208333 | CG51: 0.81875 | CH51: 0.83958333 | CI51: 0.86041667 | CJ51: 0.88125
B52: Hol Bay | C52: 0.23680556 | D52: 0.24791667 | E52: 0.25486111 | F52: 0.25763889 | G52: 0.26180556 | H52: 0.26875 | I52: 0.27569444 | J52: 0.27847222 | K52: 0.28263889 | L52: 0.28958333 | M52: 0.29652778 | N52: 0.29930556 | O52: 0.30347222 | P52: 0.31041667 | Q52: 0.31736111 | R52: 0.32013889 | S52: 0.32430556 | T52: 0.33125 | U52: 0.33819444 | V52: 0.34097222 | W52: 0.34513889 | X52: 0.35208333 | Y52: 0.35902778 | Z52: 0.36180556 | AA52: 0.36597222 | AB52: 0.37291667 | AC52: 0.37986111 | AD52: 0.38263889 | AE52: 0.38680556 | AF52: 0.40347222 | AG52: 0.42430556 | AH52: 0.44513889 | AI52: 0.46597222 | AJ52: 0.48680556 | AK52: 0.50763889 | AL52: 0.52847222 | AM52: 0.54930556 | AN52: 0.57013889 | AO52: 0.58125 | AP52: 0.58819444 | AQ52: 0.59097222 | AR52: 0.59513889 | AS52: 0.60208333 | AT52: 0.60902778 | AU52: 0.61180556 | AV52: 0.61597222 | AW52: 0.62291667 | AX52: 0.62986111 | AY52: 0.63263889 | AZ52: 0.63680556 | BA52: 0.64375 | BB52: 0.65069444 | BC52: 0.65347222 | BD52: 0.65763889 | BE52: 0.66458333 | BF52: 0.67152778 | BG52: 0.67430556 | BH52: 0.67847222 | BI52: 0.68541667 | BJ52: 0.69236111 | BK52: 0.69513889 | BL52: 0.69930556 | BM52: 0.70625 | BN52: 0.71319444 | BO52: 0.71597222 | BP52: 0.72013889 | BQ52: 0.72708333 | BR52: 0.73402778 | BS52: 0.73680556 | BT52: 0.74097222 | BU52: 0.74791667 | BV52: 0.75486111 | BW52: 0.75763889 | BX52: 0.76180556 | BY52: 0.76875 | BZ52: 0.77569444 | CA52: 0.77847222 | CB52: 0.78263889 | CC52: 0.78958333 | CD52: 0.79652778 | CE52: 0.79930556 | CF52: 0.80347222 | CG52: 0.82013889 | CH52: 0.84097222 | CI52: 0.86180556 | CJ52: 0.88263889
B53: La Paloma | C53: 0.23819444 | D53: 0.24930556 | E53: 0.25625 | F53: 0.25902778 | G53: 0.26319444 | H53: 0.27013889 | I53: 0.27708333 | J53: 0.27986111 | K53: 0.28402778 | L53: 0.29097222 | M53: 0.29791667 | N53: 0.30069444 | O53: 0.30486111 | P53: 0.31180556 | Q53: 0.31875 | R53: 0.32152778 | S53: 0.32569444 | T53: 0.33263889 | U53: 0.33958333 | V53: 0.34236111 | W53: 0.34652778 | X53: 0.35347222 | Y53: 0.36041667 | Z53: 0.36319444 | AA53: 0.36736111 | AB53: 0.37430556 | AC53: 0.38125 | AD53: 0.38402778 | AE53: 0.38819444 | AF53: 0.40486111 | AG53: 0.42569444 | AH53: 0.44652778 | AI53: 0.46736111 | AJ53: 0.48819444 | AK53: 0.50902778 | AL53: 0.52986111 | AM53: 0.55069444 | AN53: 0.57152778 | AO53: 0.58263889 | AP53: 0.58958333 | AQ53: 0.59236111 | AR53: 0.59652778 | AS53: 0.60347222 | AT53: 0.61041667 | AU53: 0.61319444 | AV53: 0.61736111 | AW53: 0.62430556 | AX53: 0.63125 | AY53: 0.63402778 | AZ53: 0.63819444 | BA53: 0.64513889 | BB53: 0.65208333 | BC53: 0.65486111 | BD53: 0.65902778 | BE53: 0.66597222 | BF53: 0.67291667 | BG53: 0.67569444 | BH53: 0.67986111 | BI53: 0.68680556 | BJ53: 0.69375 | BK53: 0.69652778 | BL53: 0.70069444 | BM53: 0.70763889 | BN53: 0.71458333 | BO53: 0.71736111 | BP53: 0.72152778 | BQ53: 0.72847222 | BR53: 0.73541667 | BS53: 0.73819444 | BT53: 0.74236111 | BU53: 0.74930556 | BV53: 0.75625 | BW53: 0.75902778 | BX53: 0.76319444 | BY53: 0.77013889 | BZ53: 0.77708333 | CA53: 0.77986111 | CB53: 0.78402778 | CC53: 0.79097222 | CD53: 0.79791667 | CE53: 0.80069444 | CF53: 0.80486111 | CG53: 0.82152778 | CH53: 0.84236111 | CI53: 0.86319444 | CJ53: 0.88402778
B54: Water's Edge | C54: 0.23888889 | D54: 0.25 | E54: 0.25694444 | F54: 0.25972222 | G54: 0.26388889 | H54: 0.27083333 | I54: 0.27777778 | J54: 0.28055556 | K54: 0.28472222 | L54: 0.29166667 | M54: 0.29861111 | N54: 0.30138889 | O54: 0.30555556 | P54: 0.3125 | Q54: 0.31944444 | R54: 0.32222222 | S54: 0.32638889 | T54: 0.33333333 | U54: 0.34027778 | V54: 0.34305556 | W54: 0.34722222 | X54: 0.35416667 | Y54: 0.36111111 | Z54: 0.36388889 | AA54: 0.36805556 | AB54: 0.375 | AC54: 0.38194444 | AD54: 0.38472222 | AE54: 0.38888889 | AF54: 0.40555556 | AG54: 0.42638889 | AH54: 0.44722222 | AI54: 0.46805556 | AJ54: 0.48888889 | AK54: 0.50972222 | AL54: 0.53055556 | AM54: 0.55138889 | AN54: 0.57222222 | AO54: 0.58333333 | AP54: 0.59027778 | AQ54: 0.59305556 | AR54: 0.59722222 | AS54: 0.60416667 | AT54: 0.61111111 | AU54: 0.61388889 | AV54: 0.61805556 | AW54: 0.625 | AX54: 0.63194444 | AY54: 0.63472222 | AZ54: 0.63888889 | BA54: 0.64583333 | BB54: 0.65277778 | BC54: 0.65555556 | BD54: 0.65972222 | BE54: 0.66666667 | BF54: 0.67361111 | BG54: 0.67638889 | BH54: 0.68055556 | BI54: 0.6875 | BJ54: 0.69444444 | BK54: 0.69722222 | BL54: 0.70138889 | BM54: 0.70833333 | BN54: 0.71527778 | BO54: 0.71805556 | BP54: 0.72222222 | BQ54: 0.72916667 | BR54: 0.73611111 | BS54: 0.73888889 | BT54: 0.74305556 | BU54: 0.75 | BV54: 0.75694444 | BW54: 0.75972222 | BX54: 0.76388889 | BY54: 0.77083333 | BZ54: 0.77777778 | CA54: 0.78055556 | CB54: 0.78472222 | CC54: 0.79166667 | CD54: 0.79861111 | CE54: 0.80138889 | CF54: 0.80555556 | CG54: 0.82222222 | CH54: 0.84305556 | CI54: 0.86388889 | CJ54: 0.88472222
B55: Marine | C55: 0.23958333 | D55: 0.25069444 | E55: 0.25763889 | F55: 0.26041667 | G55: 0.26458333 | H55: 0.27152778 | I55: 0.27847222 | J55: 0.28125 | K55: 0.28541667 | L55: 0.29236111 | M55: 0.29930556 | N55: 0.30208333 | O55: 0.30625 | P55: 0.31319444 | Q55: 0.32013889 | R55: 0.32291667 | S55: 0.32708333 | T55: 0.33402778 | U55: 0.34097222 | V55: 0.34375 | W55: 0.34791667 | X55: 0.35486111 | Y55: 0.36180556 | Z55: 0.36458333 | AA55: 0.36875 | AB55: 0.37569444 | AC55: 0.38263889 | AD55: 0.38541667 | AE55: 0.38958333 | AF55: 0.40625 | AG55: 0.42708333 | AH55: 0.44791667 | AI55: 0.46875 | AJ55: 0.48958333 | AK55: 0.51041667 | AL55: 0.53125 | AM55: 0.55208333 | AN55: 0.57291667 | AO55: 0.58402778 | AP55: 0.59097222 | AQ55: 0.59375 | AR55: 0.59791667 | AS55: 0.60486111 | AT55: 0.61180556 | AU55: 0.61458333 | AV55: 0.61875 | AW55: 0.62569444 | AX55: 0.63263889 | AY55: 0.63541667 | AZ55: 0.63958333 | BA55: 0.64652778 | BB55: 0.65347222 | BC55: 0.65625 | BD55: 0.66041667 | BE55: 0.66736111 | BF55: 0.67430556 | BG55: 0.67708333 | BH55: 0.68125 | BI55: 0.68819444 | BJ55: 0.69513889 | BK55: 0.69791667 | BL55: 0.70208333 | BM55: 0.70902778 | BN55: 0.71597222 | BO55: 0.71875 | BP55: 0.72291667 | BQ55: 0.72986111 | BR55: 0.73680556 | BS55: 0.73958333 | BT55: 0.74375 | BU55: 0.75069444 | BV55: 0.75763889 | BW55: 0.76041667 | BX55: 0.76458333 | BY55: 0.77152778 | BZ55: 0.77847222 | CA55: 0.78125 | CB55: 0.78541667 | CC55: 0.79236111 | CD55: 0.79930556 | CE55: 0.80208333 | CF55: 0.80625 | CG55: 0.82291667 | CH55: 0.84375 | CI55: 0.86458333 | CJ55: 0.88541667
B56: Big Bay | C56: 0.24027778 | D56: 0.25138889 | E56: 0.25833333 | F56: 0.26111111 | G56: 0.26527778 | H56: 0.27222222 | I56: 0.27916667 | J56: 0.28194444 | K56: 0.28611111 | L56: 0.29305556 | M56: 0.3 | N56: 0.30277778 | O56: 0.30694444 | P56: 0.31388889 | Q56: 0.32083333 | R56: 0.32361111 | S56: 0.32777778 | T56: 0.33472222 | U56: 0.34166667 | V56: 0.34444444 | W56: 0.34861111 | X56: 0.35555556 | Y56: 0.3625 | Z56: 0.36527778 | AA56: 0.36944444 | AB56: 0.37638889 | AC56: 0.38333333 | AD56: 0.38611111 | AE56: 0.39027778 | AF56: 0.40694444 | AG56: 0.42777778 | AH56: 0.44861111 | AI56: 0.46944444 | AJ56: 0.49027778 | AK56: 0.51111111 | AL56: 0.53194444 | AM56: 0.55277778 | AN56: 0.57361111 | AO56: 0.58472222 | AP56: 0.59166667 | AQ56: 0.59444444 | AR56: 0.59861111 | AS56: 0.60555556 | AT56: 0.6125 | AU56: 0.61527778 | AV56: 0.61944444 | AW56: 0.62638889 | AX56: 0.63333333 | AY56: 0.63611111 | AZ56: 0.64027778 | BA56: 0.64722222 | BB56: 0.65416667 | BC56: 0.65694444 | BD56: 0.66111111 | BE56: 0.66805556 | BF56: 0.675 | BG56: 0.67777778 | BH56: 0.68194444 | BI56: 0.68888889 | BJ56: 0.69583333 | BK56: 0.69861111 | BL56: 0.70277778 | BM56: 0.70972222 | BN56: 0.71666667 | BO56: 0.71944444 | BP56: 0.72361111 | BQ56: 0.73055556 | BR56: 0.7375 | BS56: 0.74027778 | BT56: 0.74444444 | BU56: 0.75138889 | BV56: 0.75833333 | BW56: 0.76111111 | BX56: 0.76527778 | BY56: 0.77222222 | BZ56: 0.77916667 | CA56: 0.78194444 | CB56: 0.78611111 | CC56: 0.79305556 | CD56: 0.8 | CE56: 0.80277778 | CF56: 0.80694444 | CG56: 0.82361111 | CH56: 0.84444444 | CI56: 0.86527778 | CJ56: 0.88611111
B57: De Mist | C57: 0.24097222 | D57: 0.25208333 | E57: 0.25902778 | F57: 0.26180556 | G57: 0.26597222 | H57: 0.27291667 | I57: 0.27986111 | J57: 0.28263889 | K57: 0.28680556 | L57: 0.29375 | M57: 0.30069444 | N57: 0.30347222 | O57: 0.30763889 | P57: 0.31458333 | Q57: 0.32152778 | R57: 0.32430556 | S57: 0.32847222 | T57: 0.33541667 | U57: 0.34236111 | V57: 0.34513889 | W57: 0.34930556 | X57: 0.35625 | Y57: 0.36319444 | Z57: 0.36597222 | AA57: 0.37013889 | AB57: 0.37708333 | AC57: 0.38402778 | AD57: 0.38680556 | AE57: 0.39097222 | AF57: 0.40763889 | AG57: 0.42847222 | AH57: 0.44930556 | AI57: 0.47013889 | AJ57: 0.49097222 | AK57: 0.51180556 | AL57: 0.53263889 | AM57: 0.55347222 | AN57: 0.57430556 | AO57: 0.58541667 | AP57: 0.59236111 | AQ57: 0.59513889 | AR57: 0.59930556 | AS57: 0.60625 | AT57: 0.61319444 | AU57: 0.61597222 | AV57: 0.62013889 | AW57: 0.62708333 | AX57: 0.63402778 | AY57: 0.63680556 | AZ57: 0.64097222 | BA57: 0.64791667 | BB57: 0.65486111 | BC57: 0.65763889 | BD57: 0.66180556 | BE57: 0.66875 | BF57: 0.67569444 | BG57: 0.67847222 | BH57: 0.68263889 | BI57: 0.68958333 | BJ57: 0.69652778 | BK57: 0.69930556 | BL57: 0.70347222 | BM57: 0.71041667 | BN57: 0.71736111 | BO57: 0.72013889 | BP57: 0.72430556 | BQ57: 0.73125 | BR57: 0.73819444 | BS57: 0.74097222 | BT57: 0.74513889 | BU57: 0.75208333 | BV57: 0.75902778 | BW57: 0.76180556 | BX57: 0.76597222 | BY57: 0.77291667 | BZ57: 0.77986111 | CA57: 0.78263889 | CB57: 0.78680556 | CC57: 0.79375 | CD57: 0.80069444 | CE57: 0.80347222 | CF57: 0.80763889 | CG57: 0.82430556 | CH57: 0.84513889 | CI57: 0.86597222 | CJ57: 0.88680556
...

Sheet 214c (Sat)
B2: ='214bc (Mo-Fri)'!B2 -> Route 214bc: Table View - Melkbosch Village - Melkbosstrand - Duynefontein
B3: ='214bc (Mo-Fri)'!B3 -> Timetable effective 26 Sept 2026
B4: Saturday
B6: Table View | C6: 0.20833333 | D6: 0.22777778 | E6: 0.24722222 | F6: 0.26666667 | G6: 0.28611111 | H6: 0.30555556 | I6: 0.325 | J6: 0.34444444 | K6: 0.36388889 | L6: 0.38333333 | M6: 0.40277778 | N6: 0.42222222 | O6: 0.44166667 | P6: 0.46111111 | Q6: 0.48055556 | R6: 0.5 | S6: 0.51944444 | T6: 0.53888889 | U6: 0.55833333 | V6: 0.57777778 | W6: 0.59722222 | X6: 0.61666667 | Y6: 0.63611111 | Z6: 0.65555556 | AA6: 0.675 | AB6: 0.69444444 | AC6: 0.71388889 | AD6: 0.73333333 | AE6: 0.75277778 | AF6: 0.77222222 | AG6: 0.79166667 | AH6: 0.81111111 | AI6: 0.83055556
B7: Popham | C7: 0.21041667 | D7: 0.22986111 | E7: 0.24930556 | F7: 0.26875 | G7: 0.28819444 | H7: 0.30763889 | I7: 0.32708333 | J7: 0.34652778 | K7: 0.36597222 | L7: 0.38541667 | M7: 0.40486111 | N7: 0.42430556 | O7: 0.44375 | P7: 0.46319444 | Q7: 0.48263889 | R7: 0.50208333 | S7: 0.52152778 | T7: 0.54097222 | U7: 0.56041667 | V7: 0.57986111 | W7: 0.59930556 | X7: 0.61875 | Y7: 0.63819444 | Z7: 0.65763889 | AA7: 0.67708333 | AB7: 0.69652778 | AC7: 0.71597222 | AD7: 0.73541667 | AE7: 0.75486111 | AF7: 0.77430556 | AG7: 0.79375 | AH7: 0.81319444 | AI7: 0.83263889
B8: Marine Circle | C8: 0.21111111 | D8: 0.23055556 | E8: 0.25 | F8: 0.26944444 | G8: 0.28888889 | H8: 0.30833333 | I8: 0.32777778 | J8: 0.34722222 | K8: 0.36666667 | L8: 0.38611111 | M8: 0.40555556 | N8: 0.425 | O8: 0.44444444 | P8: 0.46388889 | Q8: 0.48333333 | R8: 0.50277778 | S8: 0.52222222 | T8: 0.54166667 | U8: 0.56111111 | V8: 0.58055556 | W8: 0.6 | X8: 0.61944444 | Y8: 0.63888889 | Z8: 0.65833333 | AA8: 0.67777778 | AB8: 0.69722222 | AC8: 0.71666667 | AD8: 0.73611111 | AE8: 0.75555556 | AF8: 0.775 | AG8: 0.79444444 | AH8: 0.81388889 | AI8: 0.83333333
B9: Seal | C9: 0.21319444 | D9: 0.23263889 | E9: 0.25208333 | F9: 0.27152778 | G9: 0.29097222 | H9: 0.31041667 | I9: 0.32986111 | J9: 0.34930556 | K9: 0.36875 | L9: 0.38819444 | M9: 0.40763889 | N9: 0.42708333 | O9: 0.44652778 | P9: 0.46597222 | Q9: 0.48541667 | R9: 0.50486111 | S9: 0.52430556 | T9: 0.54375 | U9: 0.56319444 | V9: 0.58263889 | W9: 0.60208333 | X9: 0.62152778 | Y9: 0.64097222 | Z9: 0.66041667 | AA9: 0.67986111 | AB9: 0.69930556 | AC9: 0.71875 | AD9: 0.73819444 | AE9: 0.75763889 | AF9: 0.77708333 | AG9: 0.79652778 | AH9: 0.81597222 | AI9: 0.83541667
B10: Shell | C10: 0.21388889 | D10: 0.23333333 | E10: 0.25277778 | F10: 0.27222222 | G10: 0.29166667 | H10: 0.31111111 | I10: 0.33055556 | J10: 0.35 | K10: 0.36944444 | L10: 0.38888889 | M10: 0.40833333 | N10: 0.42777778 | O10: 0.44722222 | P10: 0.46666667 | Q10: 0.48611111 | R10: 0.50555556 | S10: 0.525 | T10: 0.54444444 | U10: 0.56388889 | V10: 0.58333333 | W10: 0.60277778 | X10: 0.62222222 | Y10: 0.64166667 | Z10: 0.66111111 | AA10: 0.68055556 | AB10: 0.7 | AC10: 0.71944444 | AD10: 0.73888889 | AE10: 0.75833333 | AF10: 0.77777778 | AG10: 0.79722222 | AH10: 0.81666667 | AI10: 0.83611111
B11: Perlemoen | C11: 0.21458333 | D11: 0.23402778 | E11: 0.25347222 | F11: 0.27291667 | G11: 0.29236111 | H11: 0.31180556 | I11: 0.33125 | J11: 0.35069444 | K11: 0.37013889 | L11: 0.38958333 | M11: 0.40902778 | N11: 0.42847222 | O11: 0.44791667 | P11: 0.46736111 | Q11: 0.48680556 | R11: 0.50625 | S11: 0.52569444 | T11: 0.54513889 | U11: 0.56458333 | V11: 0.58402778 | W11: 0.60347222 | X11: 0.62291667 | Y11: 0.64236111 | Z11: 0.66180556 | AA11: 0.68125 | AB11: 0.70069444 | AC11: 0.72013889 | AD11: 0.73958333 | AE11: 0.75902778 | AF11: 0.77847222 | AG11: 0.79791667 | AH11: 0.81736111 | AI11: 0.83680556
B12: Bokkombaai | C12: 0.21458333 | D12: 0.23402778 | E12: 0.25347222 | F12: 0.27291667 | G12: 0.29236111 | H12: 0.31180556 | I12: 0.33125 | J12: 0.35069444 | K12: 0.37013889 | L12: 0.38958333 | M12: 0.40902778 | N12: 0.42847222 | O12: 0.44791667 | P12: 0.46736111 | Q12: 0.48680556 | R12: 0.50625 | S12: 0.52569444 | T12: 0.54513889 | U12: 0.56458333 | V12: 0.58402778 | W12: 0.60347222 | X12: 0.62291667 | Y12: 0.64236111 | Z12: 0.66180556 | AA12: 0.68125 | AB12: 0.70069444 | AC12: 0.72013889 | AD12: 0.73958333 | AE12: 0.75902778 | AF12: 0.77847222 | AG12: 0.79791667 | AH12: 0.81736111 | AI12: 0.83680556
B13: Kleinbaai | C13: 0.21597222 | D13: 0.23541667 | E13: 0.25486111 | F13: 0.27430556 | G13: 0.29375 | H13: 0.31319444 | I13: 0.33263889 | J13: 0.35208333 | K13: 0.37152778 | L13: 0.39097222 | M13: 0.41041667 | N13: 0.42986111 | O13: 0.44930556 | P13: 0.46875 | Q13: 0.48819444 | R13: 0.50763889 | S13: 0.52708333 | T13: 0.54652778 | U13: 0.56597222 | V13: 0.58541667 | W13: 0.60486111 | X13: 0.62430556 | Y13: 0.64375 | Z13: 0.66319444 | AA13: 0.68263889 | AB13: 0.70208333 | AC13: 0.72152778 | AD13: 0.74097222 | AE13: 0.76041667 | AF13: 0.77986111 | AG13: 0.79930556 | AH13: 0.81875 | AI13: 0.83819444
B14: De Mist | C14: 0.21666667 | D14: 0.23611111 | E14: 0.25555556 | F14: 0.275 | G14: 0.29444444 | H14: 0.31388889 | I14: 0.33333333 | J14: 0.35277778 | K14: 0.37222222 | L14: 0.39166667 | M14: 0.41111111 | N14: 0.43055556 | O14: 0.45 | P14: 0.46944444 | Q14: 0.48888889 | R14: 0.50833333 | S14: 0.52777778 | T14: 0.54722222 | U14: 0.56666667 | V14: 0.58611111 | W14: 0.60555556 | X14: 0.625 | Y14: 0.64444444 | Z14: 0.66388889 | AA14: 0.68333333 | AB14: 0.70277778 | AC14: 0.72222222 | AD14: 0.74166667 | AE14: 0.76111111 | AF14: 0.78055556 | AG14: 0.8 | AH14: 0.81944444 | AI14: 0.83888889
B15: Big Bay | C15: 0.21666667 | D15: 0.23611111 | E15: 0.25555556 | F15: 0.275 | G15: 0.29444444 | H15: 0.31388889 | I15: 0.33333333 | J15: 0.35277778 | K15: 0.37222222 | L15: 0.39166667 | M15: 0.41111111 | N15: 0.43055556 | O15: 0.45 | P15: 0.46944444 | Q15: 0.48888889 | R15: 0.50833333 | S15: 0.52777778 | T15: 0.54722222 | U15: 0.56666667 | V15: 0.58611111 | W15: 0.60555556 | X15: 0.625 | Y15: 0.64444444 | Z15: 0.66388889 | AA15: 0.68333333 | AB15: 0.70277778 | AC15: 0.72222222 | AD15: 0.74166667 | AE15: 0.76111111 | AF15: 0.78055556 | AG15: 0.8 | AH15: 0.81944444 | AI15: 0.83888889
B16: Marine | C16: 0.21805556 | D16: 0.2375 | E16: 0.25694444 | F16: 0.27638889 | G16: 0.29583333 | H16: 0.31527778 | I16: 0.33472222 | J16: 0.35416667 | K16: 0.37361111 | L16: 0.39305556 | M16: 0.4125 | N16: 0.43194444 | O16: 0.45138889 | P16: 0.47083333 | Q16: 0.49027778 | R16: 0.50972222 | S16: 0.52916667 | T16: 0.54861111 | U16: 0.56805556 | V16: 0.5875 | W16: 0.60694444 | X16: 0.62638889 | Y16: 0.64583333 | Z16: 0.66527778 | AA16: 0.68472222 | AB16: 0.70416667 | AC16: 0.72361111 | AD16: 0.74305556 | AE16: 0.7625 | AF16: 0.78194444 | AG16: 0.80138889 | AH16: 0.82083333 | AI16: 0.84027778
B17: Water's Edge | C17: 0.21875 | D17: 0.23819444 | E17: 0.25763889 | F17: 0.27708333 | G17: 0.29652778 | H17: 0.31597222 | I17: 0.33541667 | J17: 0.35486111 | K17: 0.37430556 | L17: 0.39375 | M17: 0.41319444 | N17: 0.43263889 | O17: 0.45208333 | P17: 0.47152778 | Q17: 0.49097222 | R17: 0.51041667 | S17: 0.52986111 | T17: 0.54930556 | U17: 0.56875 | V17: 0.58819444 | W17: 0.60763889 | X17: 0.62708333 | Y17: 0.64652778 | Z17: 0.66597222 | AA17: 0.68541667 | AB17: 0.70486111 | AC17: 0.72430556 | AD17: 0.74375 | AE17: 0.76319444 | AF17: 0.78263889 | AG17: 0.80208333 | AH17: 0.82152778 | AI17: 0.84097222
... B61: Table View | C61: 0.26666667 | D61: 0.28611111 | E61: 0.30555556 | F61: 0.325 | G61: 0.34444444 | H61: 0.36388889 | I61: 0.38333333 | J61: 0.40277778 | K61: 0.42222222 | L61: 0.44166667 | M61: 0.46111111 | N61: 0.48055556 | O61: 0.5 | P61: 0.51944444 | Q61: 0.53888889 | R61: 0.55833333 | S61: 0.57777778 | T61: 0.59722222 | U61: 0.61666667 | V61: 0.63611111 | W61: 0.65555556 | X61: 0.675 | Y61: 0.69444444 | Z61: 0.71388889 | AA61: 0.73333333 | AB61: 0.75277778 | AC61: 0.77222222 | AD61: 0.79166667 | AE61: 0.81111111 | AF61: 0.83055556 | AG61: 0.84652778 | AH61: 0.86597222 | AI61: 0.88541667

Sheet 214c (Sun)
B2: ='214bc (Mo-Fri)'!B2 -> Route 214bc: Table View - Melkbosch Village - Melkbosstrand - Duynefontein
B3: ='214bc (Mo-Fri)'!B3 -> Timetable effective 26 Sept 2026
B4: Sunday & Public Holiday
B6: Table View | C6: 0.20833333 | D6: 0.22777778 | E6: 0.24722222 | F6: 0.26666667 | G6: 0.28611111 | H6: 0.30555556 | I6: 0.325 | J6: 0.34444444 | K6: 0.36388889 | L6: 0.38333333 | M6: 0.40277778 | N6: 0.42222222 | O6: 0.44166667 | P6: 0.46111111 | Q6: 0.48055556 | R6: 0.5 | S6: 0.51944444 | T6: 0.53888889 | U6: 0.55833333 | V6: 0.57777778 | W6: 0.59722222 | X6: 0.61666667 | Y6: 0.63611111 | Z6: 0.65555556 | AA6: 0.675 | AB6: 0.69444444 | AC6: 0.71388889 | AD6: 0.73333333 | AE6: 0.75277778 | AF6: 0.77222222 | AG6: 0.79166667 | AH6: 0.81111111 | AI6: 0.83055556
B7: Popham | C7: 0.21041667 | D7: 0.22986111 | E7: 0.24930556 | F7: 0.26875 | G7: 0.28819444 | H7: 0.30763889 | I7: 0.32708333 | J7: 0.34652778 | K7: 0.36597222 | L7: 0.38541667 | M7: 0.40486111 | N7: 0.42430556 | O7: 0.44375 | P7: 0.46319444 | Q7: 0.48263889 | R7: 0.50208333 | S7: 0.52152778 | T7: 0.54097222 | U7: 0.56041667 | V7: 0.57986111 | W7: 0.59930556 | X7: 0.61875 | Y7: 0.63819444 | Z7: 0.65763889 | AA7: 0.67708333 | AB7: 0.69652778 | AC7: 0.71597222 | AD7: 0.73541667 | AE7: 0.75486111 | AF7: 0.77430556 | AG7: 0.79375 | AH7: 0.81319444 | AI7: 0.83263889
B8: Marine Circle | C8: 0.21111111 | D8: 0.23055556 | E8: 0.25 | F8: 0.26944444 | G8: 0.28888889 | H8: 0.30833333 | I8: 0.32777778 | J8: 0.34722222 | K8: 0.36666667 | L8: 0.38611111 | M8: 0.40555556 | N8: 0.425 | O8: 0.44444444 | P8: 0.46388889 | Q8: 0.48333333 | R8: 0.50277778 | S8: 0.52222222 | T8: 0.54166667 | U8: 0.56111111 | V8: 0.58055556 | W8: 0.6 | X8: 0.61944444 | Y8: 0.63888889 | Z8: 0.65833333 | AA8: 0.67777778 | AB8: 0.69722222 | AC8: 0.71666667 | AD8: 0.73611111 | AE8: 0.75555556 | AF8: 0.775 | AG8: 0.79444444 | AH8: 0.81388889 | AI8: 0.83333333
